BEGIN:VCALENDAR
VERSION:2.0
PRODID:-//Bangor Episcopal Church of Churchtown - ECPv6.15.20//NONSGML v1.0//EN
CALSCALE:GREGORIAN
METHOD:PUBLISH
X-ORIGINAL-URL:https://bangorepiscopal.org
X-WR-CALDESC:Events for Bangor Episcopal Church of Churchtown
REFRESH-INTERVAL;VALUE=DURATION:PT1H
X-Robots-Tag:noindex
X-PUBLISHED-TTL:PT1H
BEGIN:VTIMEZONE
TZID:UTC
BEGIN:STANDARD
TZOFFSETFROM:+0000
TZOFFSETTO:+0000
TZNAME:UTC
DTSTART:20250101T000000
END:STANDARD
END:VTIMEZONE
BEGIN:VEVENT
DTSTART;TZID=UTC:20260308T100000
DTEND;TZID=UTC:20260308T113000
DTSTAMP:20260423T184540
CREATED:20260206T202931Z
LAST-MODIFIED:20260206T202931Z
UID:14320-1772964000-1772969400@bangorepiscopal.org
SUMMARY:Third Sunday in Lent
DESCRIPTION:Rite II Eucharist.  Please note Daylight Savings Time begins today!
URL:https://bangorepiscopal.org/event/third-sunday-in-lent/
END:VEVENT
BEGIN:VEVENT
DTSTART;TZID=UTC:20260308T113000
DTEND;TZID=UTC:20260308T120000
DTSTAMP:20260423T184540
CREATED:20260206T203102Z
LAST-MODIFIED:20260206T205353Z
UID:14322-1772969400-1772971200@bangorepiscopal.org
SUMMARY:Parish Forum ~ Pastoral Lay Ministry Update
DESCRIPTION:Join John Houton\, Luci Brown\, and Joseph O’Brien as they share reflections on their roles as pastoral visitors.
URL:https://bangorepiscopal.org/event/parish-forum-pastoral-lay-ministry-update/
END:VEVENT
END:VCALENDAR