BEGIN:VCALENDAR
VERSION:2.0
PRODID:-//Bangor Episcopal Church of Churchtown - ECPv6.15.20//NONSGML v1.0//EN
CALSCALE:GREGORIAN
METHOD:PUBLISH
X-ORIGINAL-URL:https://bangorepiscopal.org
X-WR-CALDESC:Events for Bangor Episcopal Church of Churchtown
REFRESH-INTERVAL;VALUE=DURATION:PT1H
X-Robots-Tag:noindex
X-PUBLISHED-TTL:PT1H
BEGIN:VTIMEZONE
TZID:UTC
BEGIN:STANDARD
TZOFFSETFROM:+0000
TZOFFSETTO:+0000
TZNAME:UTC
DTSTART:20250101T000000
END:STANDARD
END:VTIMEZONE
BEGIN:VEVENT
DTSTART;TZID=UTC:20260315T100000
DTEND;TZID=UTC:20260315T113000
DTSTAMP:20260423T184538
CREATED:20260206T210613Z
LAST-MODIFIED:20260208T203921Z
UID:14334-1773568800-1773574200@bangorepiscopal.org
SUMMARY:Fourth Sunday of Lent ~ "Refreshment Sunday"
DESCRIPTION:Celtic Eucharist in the church followed by Vestry meeting in the church at 11:15.
URL:https://bangorepiscopal.org/event/fourth-sunday-of-lent-refreshment-sunday/
END:VEVENT
END:VCALENDAR