BEGIN:VCALENDAR
VERSION:2.0
PRODID:-//Bangor Episcopal Church of Churchtown - ECPv6.15.20//NONSGML v1.0//EN
CALSCALE:GREGORIAN
METHOD:PUBLISH
X-WR-CALNAME:Bangor Episcopal Church of Churchtown
X-ORIGINAL-URL:https://bangorepiscopal.org
X-WR-CALDESC:Events for Bangor Episcopal Church of Churchtown
REFRESH-INTERVAL;VALUE=DURATION:PT1H
X-Robots-Tag:noindex
X-PUBLISHED-TTL:PT1H
BEGIN:VTIMEZONE
TZID:UTC
BEGIN:STANDARD
TZOFFSETFROM:+0000
TZOFFSETTO:+0000
TZNAME:UTC
DTSTART:20250101T000000
END:STANDARD
END:VTIMEZONE
BEGIN:VEVENT
DTSTART;TZID=UTC:20260517T113000
DTEND;TZID=UTC:20260517T123000
DTSTAMP:20260423T182630
CREATED:20260319T234228Z
LAST-MODIFIED:20260319T234228Z
UID:14433-1779017400-1779021000@bangorepiscopal.org
SUMMARY:Vestry Meeting
DESCRIPTION:
URL:https://bangorepiscopal.org/event/vestry-meeting-2/
END:VEVENT
BEGIN:VEVENT
DTSTART;TZID=UTC:20260517T160000
DTEND;TZID=UTC:20260517T180000
DTSTAMP:20260423T182630
CREATED:20260319T234151Z
LAST-MODIFIED:20260319T234151Z
UID:14431-1779033600-1779040800@bangorepiscopal.org
SUMMARY:Rogation Day
DESCRIPTION:Join us at 4 PM for our annual Rogation service.  Please bring a chair.  A light supper will be served afterwards.
URL:https://bangorepiscopal.org/event/rogation-day/
END:VEVENT
END:VCALENDAR