BEGIN:VCALENDAR
VERSION:2.0
PRODID:-//Bangor Episcopal Church of Churchtown - ECPv6.15.20//NONSGML v1.0//EN
CALSCALE:GREGORIAN
METHOD:PUBLISH
X-ORIGINAL-URL:https://bangorepiscopal.org
X-WR-CALDESC:Events for Bangor Episcopal Church of Churchtown
REFRESH-INTERVAL;VALUE=DURATION:PT1H
X-Robots-Tag:noindex
X-PUBLISHED-TTL:PT1H
BEGIN:VTIMEZONE
TZID:UTC
BEGIN:STANDARD
TZOFFSETFROM:+0000
TZOFFSETTO:+0000
TZNAME:UTC
DTSTART:20250101T000000
END:STANDARD
END:VTIMEZONE
BEGIN:VEVENT
DTSTART;TZID=UTC:20260510T100000
DTEND;TZID=UTC:20260510T230000
DTSTAMP:20260423T231521
CREATED:20260319T234018Z
LAST-MODIFIED:20260319T234018Z
UID:14429-1778407200-1778454000@bangorepiscopal.org
SUMMARY:Mother's Day
DESCRIPTION:
URL:https://bangorepiscopal.org/event/mothers-day/
END:VEVENT
BEGIN:VEVENT
DTSTART;TZID=UTC:20260513T110000
DTEND;TZID=UTC:20260513T120000
DTSTAMP:20260423T231521
CREATED:20260417T003511Z
LAST-MODIFIED:20260417T003511Z
UID:14469-1778670000-1778673600@bangorepiscopal.org
SUMMARY:Women's Book Group
DESCRIPTION:Women’s Book Group will meet at 11 AM at Garden Spot Village (Meditation Room).  The book title is Abigail Adams – Witness to the Revolution by Natalie Bober.  Afterwards\, join us for lunch at the Harvest Table.
URL:https://bangorepiscopal.org/event/womens-book-group/
END:VEVENT
BEGIN:VEVENT
DTSTART;TZID=UTC:20260517T113000
DTEND;TZID=UTC:20260517T123000
DTSTAMP:20260423T231521
CREATED:20260319T234228Z
LAST-MODIFIED:20260319T234228Z
UID:14433-1779017400-1779021000@bangorepiscopal.org
SUMMARY:Vestry Meeting
DESCRIPTION:
URL:https://bangorepiscopal.org/event/vestry-meeting-2/
END:VEVENT
BEGIN:VEVENT
DTSTART;TZID=UTC:20260517T160000
DTEND;TZID=UTC:20260517T180000
DTSTAMP:20260423T231521
CREATED:20260319T234151Z
LAST-MODIFIED:20260319T234151Z
UID:14431-1779033600-1779040800@bangorepiscopal.org
SUMMARY:Rogation Day
DESCRIPTION:Join us at 4 PM for our annual Rogation service.  Please bring a chair.  A light supper will be served afterwards.
URL:https://bangorepiscopal.org/event/rogation-day/
END:VEVENT
BEGIN:VEVENT
DTSTART;TZID=UTC:20260524T100000
DTEND;TZID=UTC:20260524T110000
DTSTAMP:20260423T231521
CREATED:20260319T234305Z
LAST-MODIFIED:20260319T234305Z
UID:14435-1779616800-1779620400@bangorepiscopal.org
SUMMARY:Pentecost Sunday
DESCRIPTION:
URL:https://bangorepiscopal.org/event/pentecost-sunday/
END:VEVENT
BEGIN:VEVENT
DTSTART;VALUE=DATE:20260525
DTEND;VALUE=DATE:20260526
DTSTAMP:20260423T231521
CREATED:20260319T234334Z
LAST-MODIFIED:20260319T234334Z
UID:14437-1779667200-1779753599@bangorepiscopal.org
SUMMARY:Memorial Day
DESCRIPTION:
URL:https://bangorepiscopal.org/event/memorial-day/
END:VEVENT
BEGIN:VEVENT
DTSTART;TZID=UTC:20260531T100000
DTEND;TZID=UTC:20260531T110000
DTSTAMP:20260423T231521
CREATED:20260319T234412Z
LAST-MODIFIED:20260319T234412Z
UID:14439-1780221600-1780225200@bangorepiscopal.org
SUMMARY:Trinity Sunday
DESCRIPTION:
URL:https://bangorepiscopal.org/event/trinity-sunday/
END:VEVENT
BEGIN:VEVENT
DTSTART;TZID=UTC:20260620T140000
DTEND;TZID=UTC:20260620T160000
DTSTAMP:20260423T231521
CREATED:20260417T003801Z
LAST-MODIFIED:20260417T003801Z
UID:14471-1781964000-1781971200@bangorepiscopal.org
SUMMARY:Herbal Tea Blending Party
DESCRIPTION:Join the Women of Bangor for an Herbal Tea Blending Party at St Thomas Morgantown on Saturday\, June 20 at 2 PM.  Tickets are $30 which includes tea and snacks.  Contact Sarah Spangler for more information.
URL:https://bangorepiscopal.org/event/herbal-tea-blending-party/
END:VEVENT
BEGIN:VEVENT
DTSTART;VALUE=DATE:20260621
DTEND;VALUE=DATE:20260622
DTSTAMP:20260423T231521
CREATED:20260319T234449Z
LAST-MODIFIED:20260319T234449Z
UID:14441-1782000000-1782086399@bangorepiscopal.org
SUMMARY:Fathers Day
DESCRIPTION:
URL:https://bangorepiscopal.org/event/fathers-day/
END:VEVENT
BEGIN:VEVENT
DTSTART;TZID=UTC:20260621T113000
DTEND;TZID=UTC:20260621T123000
DTSTAMP:20260423T231521
CREATED:20260319T234525Z
LAST-MODIFIED:20260319T234525Z
UID:14443-1782041400-1782045000@bangorepiscopal.org
SUMMARY:Vestry Meeting
DESCRIPTION:
URL:https://bangorepiscopal.org/event/vestry-meeting-3/
END:VEVENT
BEGIN:VEVENT
DTSTART;TZID=UTC:20260628T113000
DTEND;TZID=UTC:20260628T130000
DTSTAMP:20260423T231521
CREATED:20260319T234732Z
LAST-MODIFIED:20260319T234732Z
UID:14445-1782646200-1782651600@bangorepiscopal.org
SUMMARY:Parish Picnic
DESCRIPTION:Join us after church at the Garden Spot Village Pavilion for our annual  picnic.  Hot dogs\, burgers and chicken will be served\, as well as drinks.  Please bring a side dish to share.
URL:https://bangorepiscopal.org/event/parish-picnic/
END:VEVENT
END:VCALENDAR